BEGIN:VCALENDAR
VERSION:2.0
PRODID:-//Date iCal v3.5//NONSGML kigkonsult.se iCalcreator 2.16.6//
METHOD:PUBLISH
X-WR-CALNAME;VALUE=TEXT:Manresa item
BEGIN:VTIMEZONE
TZID:Europe/Dublin
BEGIN:STANDARD
DTSTART:20181028T020000
TZOFFSETFROM:+0100
TZOFFSETTO:+0000
TZNAME:GMT
END:STANDARD
BEGIN:DAYLIGHT
DTSTART:20190331T010000
TZOFFSETFROM:+0000
TZOFFSETTO:+0100
TZNAME:IST
END:DAYLIGHT
END:VTIMEZONE
BEGIN:VEVENT
UID:calendar.993.field_date_begin.0@www.manresa.ie
DTSTAMP:20171108T232053Z
CREATED:20170904T130900Z
DESCRIPTION:These days are intended to help participants to appreciate and 
 practice the teaching of Saint Ignatius on prayer and ongoing discernment.
  The sixteenth century world in which he lived differs in so many ways fro
 m ours\, yet many aspects of his insights are timeless and continue to ser
 ve the contemporary Christian.
DTSTART;TZID=Europe/Dublin:20180513T200000
DTEND;TZID=Europe/Dublin:20180518T090000
LAST-MODIFIED:20170922T115103Z
SUMMARY:4-Day Preached Retreat - Seeking God in all things (Laurence Murphy
  SJ) (13-18 May)
URL;TYPE=URI:http://www.manresa.ie/programmes/4-day-preached-retreat-seekin
 g-god-all-things-laurence-murphy-sj-13-18-may
END:VEVENT
END:VCALENDAR
