BEGIN:VCALENDAR
VERSION:2.0
PRODID:-//Date iCal v3.5//NONSGML kigkonsult.se iCalcreator 2.16.6//
METHOD:PUBLISH
X-WR-CALNAME;VALUE=TEXT:Manresa item
BEGIN:VTIMEZONE
TZID:Europe/Dublin
BEGIN:STANDARD
DTSTART:20181028T020000
TZOFFSETFROM:+0100
TZOFFSETTO:+0000
TZNAME:GMT
END:STANDARD
BEGIN:DAYLIGHT
DTSTART:20180325T010000
TZOFFSETFROM:+0000
TZOFFSETTO:+0100
TZNAME:IST
END:DAYLIGHT
END:VTIMEZONE
BEGIN:VEVENT
UID:calendar.992.field_date_begin.0@www.manresa.ie
DTSTAMP:20171108T231321Z
CREATED:20170904T130726Z
DESCRIPTION:Mark’s Gospel portrays Jesus as Son of God\, showing us how pra
 yer and relationship with Abba was integral to the mission of Jesus. We ar
 e invited by Jesus to be companions in his mission – to think\, act and pr
 ay as he does.\nIn this retreat\, Mike Drennan SJ will offer reflections o
 n the Gospel of Mark\, showing how we Jesus calls us into deeper disciples
 hip.
DTSTART;TZID=Europe/Dublin:20180222T200000
DTEND;TZID=Europe/Dublin:20180228T090000
LAST-MODIFIED:20170922T130728Z
SUMMARY:5-day Preached Retreat: Come away and rest a while (Michael Drennan
  SJ) (22-28 Feb)
URL;TYPE=URI:http://www.manresa.ie/programmes/5-day-preached-retreat-come-a
 way-and-rest-while-michael-drennan-sj-22-28-feb
END:VEVENT
END:VCALENDAR
