BEGIN:VCALENDAR
VERSION:2.0
PRODID:-//Date iCal v3.5//NONSGML kigkonsult.se iCalcreator 2.16.6//
METHOD:PUBLISH
X-WR-CALNAME;VALUE=TEXT:Manresa item
BEGIN:VTIMEZONE
TZID:Europe/Dublin
BEGIN:STANDARD
DTSTART:20181028T020000
TZOFFSETFROM:+0100
TZOFFSETTO:+0000
TZNAME:GMT
END:STANDARD
BEGIN:DAYLIGHT
DTSTART:20180325T010000
TZOFFSETFROM:+0000
TZOFFSETTO:+0100
TZNAME:IST
END:DAYLIGHT
END:VTIMEZONE
BEGIN:VEVENT
UID:calendar.989.field_date_begin.0@www.manresa.ie
DTSTAMP:20171108T231418Z
CREATED:20170824T084654Z
DESCRIPTION:Responding to Pope Francis' call to ecological conversion
DTSTART;TZID=Europe/Dublin:20180302T200000
DTEND;TZID=Europe/Dublin:20180304T150000
LAST-MODIFIED:20170922T130954Z
SUMMARY:Our New Earth Awareness
URL;TYPE=URI:http://www.manresa.ie/programmes/our-new-earth-awareness
END:VEVENT
END:VCALENDAR
