BEGIN:VCALENDAR
VERSION:2.0
PRODID:-//Date iCal v3.5//NONSGML kigkonsult.se iCalcreator 2.16.6//
METHOD:PUBLISH
X-WR-CALNAME;VALUE=TEXT:Manresa item
BEGIN:VTIMEZONE
TZID:Europe/Dublin
BEGIN:STANDARD
DTSTART:20171029T020000
TZOFFSETFROM:+0100
TZOFFSETTO:+0000
TZNAME:GMT
END:STANDARD
BEGIN:DAYLIGHT
DTSTART:20180325T010000
TZOFFSETFROM:+0000
TZOFFSETTO:+0100
TZNAME:IST
END:DAYLIGHT
END:VTIMEZONE
BEGIN:VEVENT
UID:calendar.984.field_date_begin.0@www.manresa.ie
DTSTAMP:20171106T181540Z
CREATED:20170817T145910Z
DESCRIPTION:These workshops will involve prayer\, silence and sharing. Part
 icipants will have opportunities to consider favourite poems and music and
  to reflect on them prayerfully. Guided by the insights of Ignatian spirit
 uality in an atmosphere of attention to what inspires\, these meetings wil
 l help to recognise and appreciate what inspires and invite light into lif
 e.\n\n\nAlthough it is not essential\, please feel free to bring a poem or
  piece of music which helps us explore something of this theme – especiall
 y if it is a piece of your own creation.
DTSTART;TZID=Europe/Dublin:20170911T193000
DTEND;TZID=Europe/Dublin:20170911T210000
LAST-MODIFIED:20170817T150155Z
RRULE:FREQ=MONTHLY;COUNT=3;INTERVAL=1;BYDAY=+1MO;BYMONTH=10,11;WKST=MO
SUMMARY:Spirituality in Poetry and Song
URL;TYPE=URI:http://www.manresa.ie/programmes/spirituality-poetry-and-song-
 3
END:VEVENT
END:VCALENDAR
