BEGIN:VCALENDAR
VERSION:2.0
PRODID:-//Date iCal v3.5//NONSGML kigkonsult.se iCalcreator 2.16.6//
METHOD:PUBLISH
X-WR-CALNAME;VALUE=TEXT:Manresa item
BEGIN:VTIMEZONE
TZID:Europe/Dublin
BEGIN:STANDARD
DTSTART:20171029T020000
TZOFFSETFROM:+0100
TZOFFSETTO:+0000
TZNAME:GMT
END:STANDARD
BEGIN:DAYLIGHT
DTSTART:20180325T010000
TZOFFSETFROM:+0000
TZOFFSETTO:+0100
TZNAME:IST
END:DAYLIGHT
END:VTIMEZONE
BEGIN:VEVENT
UID:calendar.983.field_date_begin.0@www.manresa.ie
DTSTAMP:20171106T181647Z
CREATED:20170817T145427Z
DESCRIPTION:The popular Movies that Matter series brings a new selection of
  films this autumn. Each film will be preceded by a brief introduction and
  followed by a discussion. For details of the films being shown\, sign up 
 for our newsletter at www.manresa.ie
DTSTART;TZID=Europe/Dublin:20170906T193000
DTEND;TZID=Europe/Dublin:20170906T220000
LAST-MODIFIED:20170903T102933Z
RDATE;VALUE=PERIOD;TZID=Europe/Dublin:20171108T000000/20171108T000000
RRULE:FREQ=MONTHLY;COUNT=3;INTERVAL=1;BYDAY=+1WE;BYMONTH=3,9,10,12;WKST=MO
SUMMARY:Movies that Matter
URL;TYPE=URI:http://www.manresa.ie/programmes/movies-matter-6
END:VEVENT
END:VCALENDAR
