BEGIN:VCALENDAR
VERSION:2.0
PRODID:-//Date iCal v3.5//NONSGML kigkonsult.se iCalcreator 2.16.6//
METHOD:PUBLISH
X-WR-CALNAME;VALUE=TEXT:Manresa item
BEGIN:VTIMEZONE
TZID:Europe/Dublin
BEGIN:STANDARD
DTSTART:20181028T020000
TZOFFSETFROM:+0100
TZOFFSETTO:+0000
TZNAME:GMT
END:STANDARD
BEGIN:DAYLIGHT
DTSTART:20180325T010000
TZOFFSETFROM:+0000
TZOFFSETTO:+0100
TZNAME:IST
END:DAYLIGHT
END:VTIMEZONE
BEGIN:VEVENT
UID:calendar.981.field_date_begin.0@www.manresa.ie
DTSTAMP:20171108T231535Z
CREATED:20170718T142955Z
DESCRIPTION:A daily talk and the seasonal ceremonies help in walking with J
 esus in his Passion in a special retreat which culminates with the Easter 
 Vigil.
DTSTART;TZID=Europe/Dublin:20180323T200000
DTEND;TZID=Europe/Dublin:20180401T100000
LAST-MODIFIED:20170922T105854Z
SUMMARY:Holy Week Guided Retreat (23 Mar-01 Apr)
URL;TYPE=URI:http://www.manresa.ie/programmes/holy-week-guided-retreat-23-m
 ar-01-apr
END:VEVENT
END:VCALENDAR
