BEGIN:VCALENDAR
VERSION:2.0
PRODID:-//Date iCal v3.5//NONSGML kigkonsult.se iCalcreator 2.16.6//
METHOD:PUBLISH
X-WR-CALNAME;VALUE=TEXT:Manresa item
BEGIN:VTIMEZONE
TZID:Europe/Dublin
BEGIN:STANDARD
DTSTART:20181028T020000
TZOFFSETFROM:+0100
TZOFFSETTO:+0000
TZNAME:GMT
END:STANDARD
BEGIN:DAYLIGHT
DTSTART:20180325T010000
TZOFFSETFROM:+0000
TZOFFSETTO:+0100
RDATE:20190331T010000
TZNAME:IST
END:DAYLIGHT
END:VTIMEZONE
BEGIN:VEVENT
UID:calendar.968.field_date_begin.0@www.manresa.ie
DTSTAMP:20171108T231810Z
CREATED:20170718T134119Z
DESCRIPTION:'Directed' or 'individually guided' retreats have become part o
 f the core ministry of Manresa. The retreatant is offered the opportunity 
 to meet with the director every day\, to be accompanied their review of th
 e prayer and reflection. The retreat's days of Individual guidance help yo
 u to recognise and attend to where God is in your life. There are several 
 key factors in the directed retreat which help you on its journey of disco
 very: personal prayer\, reflection\, silence\, daily meeting with a direct
 or and participation in the Eucharist.
DTSTART;TZID=Europe/Dublin:20180420T200000
DTEND;TZID=Europe/Dublin:20180429T090000
LAST-MODIFIED:20170922T115021Z
SUMMARY:8-day Directed Retreat (20-29 Apr)
URL;TYPE=URI:http://www.manresa.ie/programmes/8-day-directed-retreat-20-29-
 apr-0
END:VEVENT
END:VCALENDAR
