BEGIN:VCALENDAR
VERSION:2.0
PRODID:-//Date iCal v3.5//NONSGML kigkonsult.se iCalcreator 2.16.6//
METHOD:PUBLISH
X-WR-CALNAME;VALUE=TEXT:Manresa item
BEGIN:VTIMEZONE
TZID:Europe/Dublin
BEGIN:STANDARD
DTSTART:20181028T020000
TZOFFSETFROM:+0100
TZOFFSETTO:+0000
TZNAME:GMT
END:STANDARD
BEGIN:DAYLIGHT
DTSTART:20180325T010000
TZOFFSETFROM:+0000
TZOFFSETTO:+0100
TZNAME:IST
END:DAYLIGHT
END:VTIMEZONE
BEGIN:VEVENT
UID:calendar.967.field_date_begin.0@www.manresa.ie
DTSTAMP:20171108T231111Z
CREATED:20170718T134010Z
DESCRIPTION:The directed retreat is intended to create an environment where
  you can meet God intimately and discover that you are uniquely loved and 
 called by God. The retreatant is offered the opportunity to meet with the 
 director every day\, to be accompanied their review of the prayer and refl
 ection. 'Directed' or 'individually guided' retreats have become part of t
 he core ministry of Manresa. There are several key factors in the directed
  retreat which help you on its journey of discovery: personal prayer\, ref
 lection\, silence\, daily meeting with a director and participation in the
  Eucharist.
DTSTART;TZID=Europe/Dublin:20180211T200000
DTEND;TZID=Europe/Dublin:20180220T090000
LAST-MODIFIED:20170922T100831Z
SUMMARY:8-day Directed Retreat (11-20 Feb)
URL;TYPE=URI:http://www.manresa.ie/programmes/8-day-directed-retreat-11-20-
 feb
END:VEVENT
END:VCALENDAR
