BEGIN:VCALENDAR
VERSION:2.0
PRODID:-//Date iCal v3.5//NONSGML kigkonsult.se iCalcreator 2.16.6//
METHOD:PUBLISH
X-WR-CALNAME;VALUE=TEXT:Manresa item
BEGIN:VTIMEZONE
TZID:Europe/Dublin
BEGIN:STANDARD
DTSTART:20181028T020000
TZOFFSETFROM:+0100
TZOFFSETTO:+0000
TZNAME:GMT
END:STANDARD
BEGIN:DAYLIGHT
DTSTART:20180325T010000
TZOFFSETFROM:+0000
TZOFFSETTO:+0100
TZNAME:IST
END:DAYLIGHT
END:VTIMEZONE
BEGIN:VEVENT
UID:calendar.963.field_date_begin.0@www.manresa.ie
DTSTAMP:20171108T230715Z
CREATED:20170717T161824Z
DESCRIPTION:Step aside from the ordinary into the lovely surroundings of Ma
 nresa for an Oasis Day. Each day takes place in an atmosphere of silence a
 nd comprises a number of elements: reflections\, guided meditations\, pray
 er and an opportunity to meet with a spiritual director\; a celebration of
  the Eucharist concludes each day.\nAccommodation may be available on the 
 night before or after an Oasis Day. \n\n\n\nThe accompanying list shows up
 coming Oasis Days.
DTSTART;TZID=Europe/Dublin:20171216T093000
DTEND;TZID=Europe/Dublin:20171216T180000
LAST-MODIFIED:20170921T113447Z
SUMMARY:Oasis Day - 16 December 2017
URL;TYPE=URI:http://www.manresa.ie/oasis-day/16-december-2017
END:VEVENT
END:VCALENDAR
