BEGIN:VCALENDAR
VERSION:2.0
PRODID:-//Date iCal v3.5//NONSGML kigkonsult.se iCalcreator 2.16.6//
METHOD:PUBLISH
X-WR-CALNAME;VALUE=TEXT:Manresa item
BEGIN:VTIMEZONE
TZID:Europe/Dublin
BEGIN:STANDARD
DTSTART:20181028T020000
TZOFFSETFROM:+0100
TZOFFSETTO:+0000
TZNAME:GMT
END:STANDARD
BEGIN:DAYLIGHT
DTSTART:20190331T010000
TZOFFSETFROM:+0000
TZOFFSETTO:+0100
TZNAME:IST
END:DAYLIGHT
END:VTIMEZONE
BEGIN:VEVENT
UID:calendar.942.field_date_begin.0@www.manresa.ie
DTSTAMP:20171106T181803Z
CREATED:20170316T160235Z
DESCRIPTION:Manresa Jesuit Centre of Spirituality offers training in superv
 ision for spiritual directors. Conducted in association with Together in t
 he Mystery\, an established supervision training programme\, it combines o
 n-site training with long-distance supervision and mentoring over the cour
 se of a year. Training begins with a four-day contemplative practicum in M
 anresa\, following which participants receive a year of long-distance supe
 rvision and mentoring by instructors before returning for the second pract
 icum.
DTSTART;TZID=Europe/Dublin:20180504T180000
DTEND;TZID=Europe/Dublin:20180508T140000
LAST-MODIFIED:20170905T191405Z
RRULE:FREQ=YEARLY;COUNT=2;INTERVAL=1;BYMONTHDAY=3;BYMONTH=5;WKST=MO
SUMMARY:Supervision Training for Spiritual Directors
URL;TYPE=URI:http://www.manresa.ie/supervision-training
END:VEVENT
END:VCALENDAR
