BEGIN:VCALENDAR
VERSION:2.0
PRODID:-//Date iCal v3.5//NONSGML kigkonsult.se iCalcreator 2.16.6//
METHOD:PUBLISH
X-WR-CALNAME;VALUE=TEXT:Manresa item
BEGIN:VTIMEZONE
TZID:Europe/Dublin
BEGIN:STANDARD
DTSTART:20181028T020000
TZOFFSETFROM:+0100
TZOFFSETTO:+0000
TZNAME:GMT
END:STANDARD
BEGIN:DAYLIGHT
DTSTART:20180325T010000
TZOFFSETFROM:+0000
TZOFFSETTO:+0100
TZNAME:IST
END:DAYLIGHT
END:VTIMEZONE
BEGIN:VEVENT
UID:calendar.920.field_date_begin.0@www.manresa.ie
DTSTAMP:20171108T230354Z
CREATED:20170123T172217Z
DESCRIPTION:Manresa Jesuit Centre of Spirituality is the venue for meetings
  and retreats organised by various groups who want to avail of our unique 
 surroundings. Please contact the organisers of such events for details abo
 ut what they offer or contact Manresa to see if we might be a suitable ven
 ue for your event. Availability will depend on our retreat schedule.
DTSTART;TZID=Europe/Dublin:20171208T150000
DTEND;TZID=Europe/Dublin:20171209T180000
LAST-MODIFIED:20170706T134221Z
SUMMARY:Private Group Retreat
URL;TYPE=URI:http://www.manresa.ie/programmes/private-group-retreat-14
END:VEVENT
END:VCALENDAR
