BEGIN:VCALENDAR
VERSION:2.0
PRODID:-//Date iCal v3.5//NONSGML kigkonsult.se iCalcreator 2.16.6//
METHOD:PUBLISH
X-WR-CALNAME;VALUE=TEXT:Manresa item
BEGIN:VTIMEZONE
TZID:Europe/Dublin
BEGIN:STANDARD
DTSTART:20171029T020000
TZOFFSETFROM:+0100
TZOFFSETTO:+0000
TZNAME:GMT
END:STANDARD
BEGIN:DAYLIGHT
DTSTART:20180325T010000
TZOFFSETFROM:+0000
TZOFFSETTO:+0100
TZNAME:IST
END:DAYLIGHT
END:VTIMEZONE
BEGIN:VEVENT
UID:calendar.919.field_date_begin.0@www.manresa.ie
DTSTAMP:20171106T181343Z
CREATED:20170123T155454Z
DESCRIPTION:This is\, at its core\, a formation programme\, fostering a ref
 lective approach to life and noticing God at the heart of it.\n\n\nDuring 
 the second year of the course central aspects of spiritual direction are r
 e-visited and deepened with a more specific focus on the Spiritual Exercis
 es of St. Ignatius of Loyola\, on discernment\, and on the reflection on y
 our ongoing practice of spiritual direction. The second year is characteri
 sed by an integration of learning.\n\n\nTopics covered in the second year 
 include:
DTSTART;TZID=Europe/Dublin:20170908T180000
DTEND;TZID=Europe/Dublin:20170910T140000
LAST-MODIFIED:20170906T095003Z
RDATE;VALUE=PERIOD;TZID=Europe/Dublin:20171006T000000/20171006T000000
RDATE;VALUE=PERIOD;TZID=Europe/Dublin:20171103T000000/20171103T000000
RDATE;VALUE=PERIOD;TZID=Europe/Dublin:20180112T000000/20180112T000000
RDATE;VALUE=PERIOD;TZID=Europe/Dublin:20180209T000000/20180209T000000
RDATE;VALUE=PERIOD;TZID=Europe/Dublin:20180309T000000/20180309T000000
RDATE;VALUE=PERIOD;TZID=Europe/Dublin:20180413T000000/20180413T000000
RRULE:FREQ=MONTHLY;COUNT=1;INTERVAL=1;BYMONTHDAY=1;WKST=MO
SUMMARY:Spiritual Direction (Second Year) [2016-2018]
URL;TYPE=URI:http://www.manresa.ie/programmes/spiritual-direction-second-ye
 ar-2016-2018
END:VEVENT
END:VCALENDAR
