BEGIN:VCALENDAR
VERSION:2.0
PRODID:-//Date iCal v3.5//NONSGML kigkonsult.se iCalcreator 2.16.6//
METHOD:PUBLISH
X-WR-CALNAME;VALUE=TEXT:Manresa item
BEGIN:VTIMEZONE
TZID:Europe/Dublin
BEGIN:STANDARD
DTSTART:20171029T020000
TZOFFSETFROM:+0100
TZOFFSETTO:+0000
TZNAME:GMT
END:STANDARD
BEGIN:DAYLIGHT
DTSTART:20180325T010000
TZOFFSETFROM:+0000
TZOFFSETTO:+0100
TZNAME:IST
END:DAYLIGHT
END:VTIMEZONE
BEGIN:VEVENT
UID:calendar.918.field_date_begin.0@www.manresa.ie
DTSTAMP:20171106T181243Z
CREATED:20170123T155306Z
DESCRIPTION:This is\, at its core\, a formation programme\, fostering a ref
 lective approach to life and noticing God at the heart of it.\n\n\nDuring 
 the first year of the course there is a focus on deepening your own spirit
 ual life and prayer experience\, furthering your capacity to reflect\, dev
 eloping your listening and communication skills and learning to accompany 
 others. From the second term of the first year\, you will accompany two pe
 ople\, under supervision.\n\n\nTopics covered in the first year include:
DTSTART;TZID=Europe/Dublin:20170908T180000
DTEND;TZID=Europe/Dublin:20170910T140000
LAST-MODIFIED:20170904T092736Z
RDATE;VALUE=PERIOD;TZID=Europe/Dublin:20171006T000000/20171006T000000
RDATE;VALUE=PERIOD;TZID=Europe/Dublin:20171103T000000/20171103T000000
RDATE;VALUE=PERIOD;TZID=Europe/Dublin:20180112T000000/20180112T000000
RDATE;VALUE=PERIOD;TZID=Europe/Dublin:20180209T000000/20180209T000000
RDATE;VALUE=PERIOD;TZID=Europe/Dublin:20180309T000000/20180309T000000
RDATE;VALUE=PERIOD;TZID=Europe/Dublin:20180413T000000/20180413T000000
RRULE:FREQ=MONTHLY;COUNT=1;INTERVAL=1;BYMONTHDAY=1;WKST=MO
SUMMARY:Spiritual Direction (First Year) [2017-2019]
URL;TYPE=URI:http://www.manresa.ie/programmes/spiritual-direction-first-yea
 r-2017-2019
END:VEVENT
END:VCALENDAR
