BEGIN:VCALENDAR
VERSION:2.0
PRODID:-//Date iCal v3.5//NONSGML kigkonsult.se iCalcreator 2.16.6//
METHOD:PUBLISH
X-WR-CALNAME;VALUE=TEXT:Manresa item
BEGIN:VTIMEZONE
TZID:Europe/Dublin
BEGIN:STANDARD
DTSTART:20181028T020000
TZOFFSETFROM:+0100
TZOFFSETTO:+0000
TZNAME:GMT
END:STANDARD
BEGIN:DAYLIGHT
DTSTART:20180325T010000
TZOFFSETFROM:+0000
TZOFFSETTO:+0100
TZNAME:IST
END:DAYLIGHT
END:VTIMEZONE
BEGIN:VEVENT
UID:calendar.916.field_date_begin.0@www.manresa.ie
DTSTAMP:20171108T230111Z
CREATED:20170109T102249Z
DESCRIPTION:A retreat in Advent is especially precious as it has become a t
 ime with lots to do and much attention to time and dates. This retreat giv
 es some attention to the place of waiting\, inviting consideration of a co
 re Advent theme. You will have time to appreciate the season’s message by 
 spending time praying alone\, in company with others\, by meeting with a s
 piritual director or just catching your breath if life seems too busy.
DTSTART;TZID=Europe/Dublin:20171201T200000
DTEND;TZID=Europe/Dublin:20171203T140000
LAST-MODIFIED:20171108T172417Z
SUMMARY:Advent Weekend Retreat (1-3 Dec)
URL;TYPE=URI:http://www.manresa.ie/programmes/advent-weekend-retreat-1-3-de
 c
END:VEVENT
END:VCALENDAR
