BEGIN:VCALENDAR
VERSION:2.0
PRODID:-//Date iCal v3.5//NONSGML kigkonsult.se iCalcreator 2.16.6//
METHOD:PUBLISH
X-WR-CALNAME;VALUE=TEXT:Manresa item
BEGIN:VTIMEZONE
TZID:Europe/Dublin
BEGIN:STANDARD
DTSTART:20181028T020000
TZOFFSETFROM:+0100
TZOFFSETTO:+0000
TZNAME:GMT
END:STANDARD
BEGIN:DAYLIGHT
DTSTART:20180325T010000
TZOFFSETFROM:+0000
TZOFFSETTO:+0100
TZNAME:IST
END:DAYLIGHT
END:VTIMEZONE
BEGIN:VEVENT
UID:calendar.915.field_date_begin.0@www.manresa.ie
DTSTAMP:20171108T230834Z
CREATED:20170109T101958Z
DESCRIPTION:A valued way to see in the New Year\, the retreat starts on Fri
 day evening and continues until the afternoon on New Year’s Day\, offering
  space to reflect on the time gone by and to ask for God’s grace on the ye
 ar to come. These days give ample opportunity to engage in prayer\, person
 al reflection\, celebrations of Eucharist and to meet individually with a 
 trained spiritual guide. Participants will be helped to ponder Scripture a
 nd to recognise the signs of God’s presence in their reflection and in the
  world around them.
DTSTART;TZID=Europe/Dublin:20171229T200000
DTEND;TZID=Europe/Dublin:20180101T150000
LAST-MODIFIED:20171024T115648Z
SUMMARY:New Year 3-day Retreat (29 Dec-1 Jan)
URL;TYPE=URI:http://www.manresa.ie/programmes/new-year-3-day-retreat-29-dec
 -1-jan-0
END:VEVENT
END:VCALENDAR
