BEGIN:VCALENDAR
VERSION:2.0
PRODID:-//Date iCal v3.5//NONSGML kigkonsult.se iCalcreator 2.16.6//
METHOD:PUBLISH
X-WR-CALNAME;VALUE=TEXT:Manresa item
BEGIN:VTIMEZONE
TZID:Europe/Dublin
BEGIN:STANDARD
DTSTART:20181028T020000
TZOFFSETFROM:+0100
TZOFFSETTO:+0000
TZNAME:GMT
END:STANDARD
BEGIN:DAYLIGHT
DTSTART:20180325T010000
TZOFFSETFROM:+0000
TZOFFSETTO:+0100
TZNAME:IST
END:DAYLIGHT
END:VTIMEZONE
BEGIN:VEVENT
UID:calendar.914.field_date_begin.0@www.manresa.ie
DTSTAMP:20171108T230556Z
CREATED:20170109T101748Z
DESCRIPTION:Choose either the first or second week of Advent to spend some 
 time with the seasonal themes. Centered on the themes of Advent and Christ
 mas\, and in an atmosphere of silent prayer and reflection\, these days pr
 ovide an opportunity for people to get in touch with the real meaning of t
 he season and the real wonder of what we celebrate.
DTSTART;TZID=Europe/Dublin:20171211T200000
DTEND;TZID=Europe/Dublin:20171215T090000
LAST-MODIFIED:20171106T170325Z
SUMMARY:Advent Triduum (2) (11-15 Dec)
URL;TYPE=URI:http://www.manresa.ie/programmes/advent-triduum-2-11-15-dec
END:VEVENT
END:VCALENDAR
