BEGIN:VCALENDAR
VERSION:2.0
PRODID:-//Date iCal v3.5//NONSGML kigkonsult.se iCalcreator 2.16.6//
METHOD:PUBLISH
X-WR-CALNAME;VALUE=TEXT:Manresa item
BEGIN:VTIMEZONE
TZID:Europe/Dublin
BEGIN:STANDARD
DTSTART:20171029T020000
TZOFFSETFROM:+0100
TZOFFSETTO:+0000
TZNAME:GMT
END:STANDARD
BEGIN:DAYLIGHT
DTSTART:20180325T010000
TZOFFSETFROM:+0000
TZOFFSETTO:+0100
TZNAME:IST
END:DAYLIGHT
END:VTIMEZONE
BEGIN:VEVENT
UID:calendar.1009.field_date_begin.0@www.manresa.ie
DTSTAMP:20171106T181443Z
CREATED:20170929T105557Z
DESCRIPTION:The book club members have read a range of titles over the year
 s and will take up Ronald Rolheiser Seeking Spirituality in September 2017
 . We will be happy to facilitate additional groups - leave your name and c
 ontact details with us to register your interest.
DTSTART;TZID=Europe/Dublin:20170911T110000
DTEND;TZID=Europe/Dublin:20170911T123000
LAST-MODIFIED:20170929T105612Z
RDATE;VALUE=PERIOD;TZID=Europe/Dublin:20171106T000000/20171106T000000
RRULE:FREQ=MONTHLY;COUNT=3;INTERVAL=1;BYDAY=+2MO;BYMONTH=10,12;WKST=MO
SUMMARY:Ignatian Library Book Club
URL;TYPE=URI:http://www.manresa.ie/programmes/ignatian-library-book-club-6
END:VEVENT
END:VCALENDAR
