BEGIN:VCALENDAR
VERSION:2.0
PRODID:-//Date iCal v3.5//NONSGML kigkonsult.se iCalcreator 2.16.6//
METHOD:PUBLISH
X-WR-CALNAME;VALUE=TEXT:Manresa item
BEGIN:VTIMEZONE
TZID:Europe/Dublin
BEGIN:STANDARD
DTSTART:20171029T020000
TZOFFSETFROM:+0100
TZOFFSETTO:+0000
TZNAME:GMT
END:STANDARD
BEGIN:DAYLIGHT
DTSTART:20180325T010000
TZOFFSETFROM:+0000
TZOFFSETTO:+0100
TZNAME:IST
END:DAYLIGHT
END:VTIMEZONE
BEGIN:VEVENT
UID:calendar.1007.field_date_begin.0@www.manresa.ie
DTSTAMP:20171106T180140Z
CREATED:20170925T164310Z
DESCRIPTION:Five hundred years after Martin Luther’s call to reform in 1517
 \, Christian life remains significantly influenced by him and his contempo
 raries of 500 years ago.
DTSTART;TZID=Europe/Dublin:20171005T200000
DTEND;TZID=Europe/Dublin:20171005T213000
LAST-MODIFIED:20170929T112348Z
RDATE;VALUE=PERIOD;TZID=Europe/Dublin:20171019T000000/20171019T000000
RDATE;VALUE=PERIOD;TZID=Europe/Dublin:20171109T000000/20171109T000000
RDATE;VALUE=PERIOD;TZID=Europe/Dublin:20171123T000000/20171123T000000
RDATE;VALUE=PERIOD;TZID=Europe/Dublin:20180208T000000/20180208T000000
RDATE;VALUE=PERIOD;TZID=Europe/Dublin:20180308T000000/20180308T000000
RDATE;VALUE=PERIOD;TZID=Europe/Dublin:20180412T000000/20180412T000000
RDATE;VALUE=PERIOD;TZID=Europe/Dublin:20180510T000000/20180510T000000
RRULE:FREQ=WEEKLY;COUNT=1;INTERVAL=2;BYDAY=TH;WKST=MO
SUMMARY:The Call to Reform Series
URL;TYPE=URI:http://www.manresa.ie/programmes/call-reform-series
END:VEVENT
END:VCALENDAR
